BEGIN:VCALENDAR
VERSION:2.0
PRODID:spatie/icalendar-generator
DESCRIPTION:Events from A Touch of Class
X-WR-CALDESC:Events from A Touch of Class
REFRESH-INTERVAL;VALUE=DURATION:PT1440M
X-PUBLISHED-TTL:PT1440M
BEGIN:VTIMEZONE
TZID:Etc/GMT-1
BEGIN:STANDARD
DTSTART:20231114T220000Z
TZOFFSETFROM:+0100
TZOFFSETTO:+0100
END:STANDARD
END:VTIMEZONE
BEGIN:VTIMEZONE
TZID:UTC
BEGIN:STANDARD
DTSTART:20250724T135028Z
TZOFFSETFROM:+0000
TZOFFSETTO:+0000
END:STANDARD
END:VTIMEZONE
BEGIN:VEVENT
UID:641-9
DTSTAMP:20260420T135028Z
SUMMARY:Carmen Snake
LOCATION:Chaplin’s Bar Calle Mallorca 7 Edificio Las Rocas LC 1 al 4 Beni
 dorm Alicante 03501
ORGANIZER;CN=seo.servicios.gestion@gmail.com:MAILTO:seo.servicios.gestion@g
 mail.com
RRULE:FREQ=WEEKLY;UNTIL=20241130T000000Z
DTSTART;TZID=Etc/GMT-1:20240810T220000
DTEND;TZID=Etc/GMT-1:20240810T230000
X-ALT-DESC;FMTTYPE=TEXT/HTML:Tribute Sticky Benidorm - ADULT show Get ready
  for a night full of fun and entertainment with the famous adult show \"Tr
 ibute Sticky Benidorm\,\" presented by the talented Carmen Snake. With her
  charisma and unique skills\, Carmen will take you on an unforgettable jou
 rney of laughs and excitement. Don't miss this unique experience at Chapli
 n's&amp;hellip\;
CATEGORIES:Chaplin’s Bar
URL;VALUE=URI:https://atouchofclasscabaret.com/mc-events/carmen-snake-3/?mc
 _id=641
END:VEVENT
END:VCALENDAR